BEGIN:VCALENDAR
VERSION:2.0
PRODID:-//Omistajanvaihdosfoorumi - ECPv6.15.20//NONSGML v1.0//EN
CALSCALE:GREGORIAN
METHOD:PUBLISH
X-WR-CALNAME:Omistajanvaihdosfoorumi
X-ORIGINAL-URL:https://ov-foorumi.fi
X-WR-CALDESC:Tapahtumat Omistajanvaihdosfoorumi
REFRESH-INTERVAL;VALUE=DURATION:PT1H
X-Robots-Tag:noindex
X-PUBLISHED-TTL:PT1H
BEGIN:VTIMEZONE
TZID:Europe/Helsinki
BEGIN:DAYLIGHT
TZOFFSETFROM:+0200
TZOFFSETTO:+0300
TZNAME:EEST
DTSTART:20230326T010000
END:DAYLIGHT
BEGIN:STANDARD
TZOFFSETFROM:+0300
TZOFFSETTO:+0200
TZNAME:EET
DTSTART:20231029T010000
END:STANDARD
BEGIN:DAYLIGHT
TZOFFSETFROM:+0200
TZOFFSETTO:+0300
TZNAME:EEST
DTSTART:20240331T010000
END:DAYLIGHT
BEGIN:STANDARD
TZOFFSETFROM:+0300
TZOFFSETTO:+0200
TZNAME:EET
DTSTART:20241027T010000
END:STANDARD
BEGIN:DAYLIGHT
TZOFFSETFROM:+0200
TZOFFSETTO:+0300
TZNAME:EEST
DTSTART:20250330T010000
END:DAYLIGHT
BEGIN:STANDARD
TZOFFSETFROM:+0300
TZOFFSETTO:+0200
TZNAME:EET
DTSTART:20251026T010000
END:STANDARD
END:VTIMEZONE
BEGIN:VEVENT
DTSTART;TZID=Europe/Helsinki:20240304T000000
DTEND;TZID=Europe/Helsinki:20240304T000000
DTSTAMP:20260422T195150
CREATED:20251023T101509Z
LAST-MODIFIED:20251023T101509Z
UID:10290-1709510400-1709510400@ov-foorumi.fi
SUMMARY:Omistajanvaihdokset: Yrityskaupan rahoitus ja sopimukset
DESCRIPTION:Omistajanvaihdosteeman toisessa tapahtumapäivässä käydään läpi yrityksen omistajanvaihdosta erityisesti ostajan näkökulmasta. Päivässä on tärkeää tietoa ostajien lisäksi myös myyjälle\, joten paikalle kannattaa tulla. \n\n\n\nTilaisuus alkaa klo 8:15 Tietotiistai -lähetyksellä ja jatkuu alustuksin ja keskusteluin klo 12 saakka. \n\n\n\nTietotiistai klo 8.15-8.45 \n\n\n\nOmistajanvaihdos ostajan näkökulmasta \n\n\n\nMitä ostajan tulee huomioida ostettavasta yrityksestä (Anu Meriläinen\, Kainuun ELY-keskus) \n\n\n\nAloittavan yrittäjän palvelut omistajanvaihdoksen tukena (Maija Granqvist\, Kainuun TE-toimisto) \n\n\n\nOhjelma \n\n\n\n9.15 Sopimusjuridiikka omistajanvaihdostilanteissa (asianajaja\, varatuomari Mikko Kejo\, Asianajotoimisto Kejo Oy) \n\n\n\n10.00 Liiketoimintasuunnitelma ja laskelmat omistajanvaihdosprosessissa (Soili Hypén\, ProAgria /MKN Itä-Suomi) \n\n\n\n10.30 Rahoitusta yrityskauppoihin (Ville Pennanen ja Marko Huotari\, Kainuun Osuuspankki ja Saara Ohtonen\, Finnvera) \n\n\n\n11.15 Leader tuet omistajanvaihdokseen (Päivi Koivula\, Oulujärvi Leader) \n\n\n\nPaikan päällä Business Konttorilla mm. Kainuun TE-palvelut\, Kainuun ELY-keskus\, Kainuun Yrittäjät\, Finnvera\, Oulujärvi Leader\, Kainuun Osuuspankki.
URL:https://ov-foorumi.fi/event/omistajanvaihdokset-yrityskaupan-rahoitus-ja-sopimukset/
END:VEVENT
BEGIN:VEVENT
DTSTART;TZID=Europe/Helsinki:20240306T000000
DTEND;TZID=Europe/Helsinki:20240306T000000
DTSTAMP:20260422T195150
CREATED:20251023T101509Z
LAST-MODIFIED:20251023T101509Z
UID:10291-1709683200-1709683200@ov-foorumi.fi
SUMMARY:Sijoittajat ja yrittäjät yhdessä yritysten kasvukatalyyttinä 
DESCRIPTION:Mistä yrittäjä löytää riskisijoittajia\, ja mitä se vaatii yritykseltä? Tilaisuus on riskisijoittajille ja yrittäjille mahdollisuus löytää toisensa. Myös mahdolliset lappilaiset sijoittajat ovat tervetulleita.
URL:https://ov-foorumi.fi/event/sijoittajat-ja-yrittajat-yhdessa-yritysten-kasvukatalyyttina/
END:VEVENT
BEGIN:VEVENT
DTSTART;TZID=Europe/Helsinki:20240311T000000
DTEND;TZID=Europe/Helsinki:20240311T000000
DTSTAMP:20260422T195150
CREATED:20251023T101509Z
LAST-MODIFIED:20251023T101509Z
UID:10292-1710115200-1710115200@ov-foorumi.fi
SUMMARY:Sukupolvenvaihdoksen verotus ja rahoitus
DESCRIPTION:Webinaarissa opit sukupolvenvaihdoksen rahoitukseen ja verotukseen liittyvistä asioista käytännön esimerkein.
URL:https://ov-foorumi.fi/event/sukupolvenvaihdoksen-verotus-ja-rahoitus/
END:VEVENT
BEGIN:VEVENT
DTSTART;TZID=Europe/Helsinki:20240311T000000
DTEND;TZID=Europe/Helsinki:20240311T000000
DTSTAMP:20260422T195150
CREATED:20251023T101509Z
LAST-MODIFIED:20251023T101509Z
UID:10293-1710115200-1710115200@ov-foorumi.fi
SUMMARY:Sukupolvenvaihdoksen sopimukset ja vakuutukset
DESCRIPTION:Webinaarissa opit sukupolvenvaihdokseen liittyvistä asioista käytännön esimerkkien kautta. Aamupäivän aikana käymme asiantuntijoiden johdolla läpi kaikki sukupolvenvaihdokseen varautumisen kannalta tärkeät sopimukset ja muut juridiset asiakirjat. 
URL:https://ov-foorumi.fi/event/sukupolvenvaihdoksen-sopimukset-ja-vakuutukset/
END:VEVENT
BEGIN:VEVENT
DTSTART;TZID=Europe/Helsinki:20240322T000000
DTEND;TZID=Europe/Helsinki:20240322T000000
DTSTAMP:20260422T195150
CREATED:20251023T101509Z
LAST-MODIFIED:20251023T101509Z
UID:10294-1711065600-1711065600@ov-foorumi.fi
SUMMARY:PIRKANMAAN OMISTAJANVAIHDOSMARKKINOIDEN KEVÄTTREFFIT
DESCRIPTION:Oletko suunnittelemassa yrityksen ostoa tai myyntiä? Onko sukupolvenvaihdos ajankohtainen\, vai oletko kenties aloittava yrittäjä? Haluatko työllistää itsesi yrittäjänä? Oletko yrityskauppojen asiantuntija? Tai oletko muuten vain kiinnostunut yrityskaupoista? Mikäli tunnistit itsesi niin Omistajanvaihdosmarkkinat ovat oikea tapahtuma sinulle.
URL:https://ov-foorumi.fi/event/pirkanmaan-omistajanvaihdosmarkkinoiden-kevattreffit/
END:VEVENT
BEGIN:VEVENT
DTSTART;TZID=Europe/Helsinki:20240322T000000
DTEND;TZID=Europe/Helsinki:20240322T000000
DTSTAMP:20260422T195150
CREATED:20251023T101557Z
LAST-MODIFIED:20251023T101557Z
UID:10295-1711065600-1711065600@ov-foorumi.fi
SUMMARY:Onnistu yrityskaupassa
DESCRIPTION:Oletko miettinyt yrityksen ostamista tai myymistä? Onnistu yrityskaupassa -tilaisuudessa eri alojen asiantuntijat tarjoavat käytännön neuvoja yrityksen omistajanvaihdoksen onnistumiseksi sekä arvokasta tietoa rahoitusmahdollisuuksista ja verkostoista. Tilaisuus on tarkoitettu yrittäjille\, joilla omistajanvaihdos voi olla edessä lähivuosina.
URL:https://ov-foorumi.fi/event/onnistu-yrityskaupassa/
END:VEVENT
BEGIN:VEVENT
DTSTART;TZID=Europe/Helsinki:20240325T000000
DTEND;TZID=Europe/Helsinki:20240325T000000
DTSTAMP:20260422T195150
CREATED:20251023T101558Z
LAST-MODIFIED:20251023T101558Z
UID:10296-1711324800-1711324800@ov-foorumi.fi
SUMMARY:Mitä tulee ottaa huomioon omistajanvaihdosta miettiessä?
DESCRIPTION:Oletko pohtimassa omistajanvaihdosta joko myyjän tai ostajan näkökulmasta? Tule linjoille kuulemaan faktaa ja täsmävinkkejä\, kuinka voit valmistautua tulevaan omistajanvaihdokseen ja edistää siten yrityksesi myyntiä.
URL:https://ov-foorumi.fi/event/mita-tulee-ottaa-huomioon-omistajanvaihdosta-miettiessa/
END:VEVENT
BEGIN:VEVENT
DTSTART;TZID=Europe/Helsinki:20240325T000000
DTEND;TZID=Europe/Helsinki:20240325T000000
DTSTAMP:20260422T195150
CREATED:20251023T101558Z
LAST-MODIFIED:20251023T101558Z
UID:10297-1711324800-1711324800@ov-foorumi.fi
SUMMARY:Yrityksen arvonmääritys
DESCRIPTION:Oletko pohtimassa omistajanvaihdosta joko myyjän tai ostajan näkökulmasta? Tule linjoille kuulemaan faktaa ja täsmävinkkejä\, miten yrityksen arvo määritetään ja kuinka arvonmääritys vaikuttaa yrityskauppaan.
URL:https://ov-foorumi.fi/event/yrityksen-arvonmaaritys/
END:VEVENT
BEGIN:VEVENT
DTSTART;TZID=Europe/Helsinki:20240325T000000
DTEND;TZID=Europe/Helsinki:20240325T000000
DTSTAMP:20260422T195150
CREATED:20251023T101558Z
LAST-MODIFIED:20251023T101558Z
UID:10298-1711324800-1711324800@ov-foorumi.fi
SUMMARY:Puhetta Yrityskaupoista- iltatilaisuus
DESCRIPTION:Puhetta Yrityskaupoista-kiertue rantautuu Forssan seudulle. Luvassa puhetta Yrityskaupoista\, tietoiskuja sekä alueella toimivien palvelutuottajien esittely. Lisäksi mahdollisuus keskustella palvelutuottajien ja muiden yrittäjien kanssa. 
URL:https://ov-foorumi.fi/event/puhetta-yrityskaupoista-iltatilaisuus/
END:VEVENT
END:VCALENDAR