BEGIN:VCALENDAR
VERSION:2.0
PRODID:-//Omistajanvaihdosfoorumi - ECPv6.15.20//NONSGML v1.0//EN
CALSCALE:GREGORIAN
METHOD:PUBLISH
X-WR-CALNAME:Omistajanvaihdosfoorumi
X-ORIGINAL-URL:https://ov-foorumi.fi
X-WR-CALDESC:Tapahtumat Omistajanvaihdosfoorumi
REFRESH-INTERVAL;VALUE=DURATION:PT1H
X-Robots-Tag:noindex
X-PUBLISHED-TTL:PT1H
BEGIN:VTIMEZONE
TZID:Europe/Helsinki
BEGIN:DAYLIGHT
TZOFFSETFROM:+0200
TZOFFSETTO:+0300
TZNAME:EEST
DTSTART:20230326T010000
END:DAYLIGHT
BEGIN:STANDARD
TZOFFSETFROM:+0300
TZOFFSETTO:+0200
TZNAME:EET
DTSTART:20231029T010000
END:STANDARD
BEGIN:DAYLIGHT
TZOFFSETFROM:+0200
TZOFFSETTO:+0300
TZNAME:EEST
DTSTART:20240331T010000
END:DAYLIGHT
BEGIN:STANDARD
TZOFFSETFROM:+0300
TZOFFSETTO:+0200
TZNAME:EET
DTSTART:20241027T010000
END:STANDARD
BEGIN:DAYLIGHT
TZOFFSETFROM:+0200
TZOFFSETTO:+0300
TZNAME:EEST
DTSTART:20250330T010000
END:DAYLIGHT
BEGIN:STANDARD
TZOFFSETFROM:+0300
TZOFFSETTO:+0200
TZNAME:EET
DTSTART:20251026T010000
END:STANDARD
END:VTIMEZONE
BEGIN:VEVENT
DTSTART;TZID=Europe/Helsinki:20240216T000000
DTEND;TZID=Europe/Helsinki:20240216T000000
DTSTAMP:20260424T113654
CREATED:20251023T101309Z
LAST-MODIFIED:20251023T101309Z
UID:10286-1708041600-1708041600@ov-foorumi.fi
SUMMARY:Omistajanvaihdosklinikka Kuopiossa 9.4. puualan yrityksille
DESCRIPTION:
URL:https://ov-foorumi.fi/event/omistajanvaihdosklinikka-kuopiossa-9-4-puualan-yrityksille/
END:VEVENT
BEGIN:VEVENT
DTSTART;TZID=Europe/Helsinki:20240216T000000
DTEND;TZID=Europe/Helsinki:20240216T000000
DTSTAMP:20260424T113654
CREATED:20251023T101309Z
LAST-MODIFIED:20251023T101309Z
UID:10287-1708041600-1708041600@ov-foorumi.fi
SUMMARY:Omistajanvaihdosklinikka Jyväskylässä 17.4. puualan yrityksille
DESCRIPTION:
URL:https://ov-foorumi.fi/event/omistajanvaihdosklinikka-jyvaskylassa-17-4-puualan-yrityksille/
END:VEVENT
BEGIN:VEVENT
DTSTART;TZID=Europe/Helsinki:20240216T000000
DTEND;TZID=Europe/Helsinki:20240216T000000
DTSTAMP:20260424T113654
CREATED:20251023T101309Z
LAST-MODIFIED:20251023T101309Z
UID:10288-1708041600-1708041600@ov-foorumi.fi
SUMMARY:Omistajanvaihdosklinikka Oulussa 25.4. puualan yrityksille
DESCRIPTION:
URL:https://ov-foorumi.fi/event/omistajanvaihdosklinikka-oulussa-25-4-puualan-yrityksille/
END:VEVENT
END:VCALENDAR