BEGIN:VCALENDAR
VERSION:2.0
PRODID:-//Omistajanvaihdosfoorumi - ECPv6.15.20//NONSGML v1.0//EN
CALSCALE:GREGORIAN
METHOD:PUBLISH
X-WR-CALNAME:Omistajanvaihdosfoorumi
X-ORIGINAL-URL:https://ov-foorumi.fi
X-WR-CALDESC:Tapahtumat Omistajanvaihdosfoorumi
REFRESH-INTERVAL;VALUE=DURATION:PT1H
X-Robots-Tag:noindex
X-PUBLISHED-TTL:PT1H
BEGIN:VTIMEZONE
TZID:Europe/Helsinki
BEGIN:DAYLIGHT
TZOFFSETFROM:+0200
TZOFFSETTO:+0300
TZNAME:EEST
DTSTART:20220327T010000
END:DAYLIGHT
BEGIN:STANDARD
TZOFFSETFROM:+0300
TZOFFSETTO:+0200
TZNAME:EET
DTSTART:20221030T010000
END:STANDARD
BEGIN:DAYLIGHT
TZOFFSETFROM:+0200
TZOFFSETTO:+0300
TZNAME:EEST
DTSTART:20230326T010000
END:DAYLIGHT
BEGIN:STANDARD
TZOFFSETFROM:+0300
TZOFFSETTO:+0200
TZNAME:EET
DTSTART:20231029T010000
END:STANDARD
BEGIN:DAYLIGHT
TZOFFSETFROM:+0200
TZOFFSETTO:+0300
TZNAME:EEST
DTSTART:20240331T010000
END:DAYLIGHT
BEGIN:STANDARD
TZOFFSETFROM:+0300
TZOFFSETTO:+0200
TZNAME:EET
DTSTART:20241027T010000
END:STANDARD
END:VTIMEZONE
BEGIN:VEVENT
DTSTART;TZID=Europe/Helsinki:20230620T000000
DTEND;TZID=Europe/Helsinki:20230620T000000
DTSTAMP:20260424T235952
CREATED:20251023T101138Z
LAST-MODIFIED:20251023T101138Z
UID:10267-1687219200-1687219200@ov-foorumi.fi
SUMMARY:Onnistu yrityskaupoissa - Sipoo
DESCRIPTION:Mielessä yrityksen osto tai myynti? Tämä ilta on sinun! \n\n\n\nMitä onnistunut yrityskauppa edellyttää? Millaista rahoitusta omistajanvaihdokseen on mahdollista saada? Case-esimerkkinä Meri Varkoi-Anhavan Yrityspörssin tarina yrityksen ostosta myyntiin. \n\n\n\nOhjelma: \n\n\n\nKlo 18 Kahvitarjoilu ja pientä suolaista \n\n\n\nKlo 18.30 Onnistunut yrityskauppa – mitä se edellyttää? Anneli Komi\, Suomen Yrittäjät \n\n\n\nKlo 19 Yrityspörssi ja yrityskaupat – tarina yrityksen ostosta myyntiin\, Meri Varkoi-Anhava\, Yrityspörssi \n\n\n\nklo 19.30 Finnveran rahoitus omistajanvaihdoksiin\, Anna-Mari Palo\, Finnvera \n\n\n\nTilaisuus päättyy noin klo 20. \n\n\n\nTapahtuma on maksuton ja avoin kaikille yrittäjille.
URL:https://ov-foorumi.fi/event/onnistu-yrityskaupoissa-sipoo/
END:VEVENT
END:VCALENDAR