BEGIN:VCALENDAR
VERSION:2.0
PRODID:-//Omistajanvaihdosfoorumi - ECPv6.15.20//NONSGML v1.0//EN
CALSCALE:GREGORIAN
METHOD:PUBLISH
X-WR-CALNAME:Omistajanvaihdosfoorumi
X-ORIGINAL-URL:https://ov-foorumi.fi
X-WR-CALDESC:Tapahtumat Omistajanvaihdosfoorumi
REFRESH-INTERVAL;VALUE=DURATION:PT1H
X-Robots-Tag:noindex
X-PUBLISHED-TTL:PT1H
BEGIN:VTIMEZONE
TZID:Europe/Helsinki
BEGIN:DAYLIGHT
TZOFFSETFROM:+0200
TZOFFSETTO:+0300
TZNAME:EEST
DTSTART:20250330T010000
END:DAYLIGHT
BEGIN:STANDARD
TZOFFSETFROM:+0300
TZOFFSETTO:+0200
TZNAME:EET
DTSTART:20251026T010000
END:STANDARD
BEGIN:DAYLIGHT
TZOFFSETFROM:+0200
TZOFFSETTO:+0300
TZNAME:EEST
DTSTART:20260329T010000
END:DAYLIGHT
BEGIN:STANDARD
TZOFFSETFROM:+0300
TZOFFSETTO:+0200
TZNAME:EET
DTSTART:20261025T010000
END:STANDARD
BEGIN:DAYLIGHT
TZOFFSETFROM:+0200
TZOFFSETTO:+0300
TZNAME:EEST
DTSTART:20270328T010000
END:DAYLIGHT
BEGIN:STANDARD
TZOFFSETFROM:+0300
TZOFFSETTO:+0200
TZNAME:EET
DTSTART:20271031T010000
END:STANDARD
END:VTIMEZONE
BEGIN:VEVENT
DTSTART;VALUE=DATE:20260423
DTEND;VALUE=DATE:20260424
DTSTAMP:20260423T025827
CREATED:20251201T104056Z
LAST-MODIFIED:20251201T112622Z
UID:225259-1776902400-1776988799@ov-foorumi.fi
SUMMARY:OV-foorumi x RISE 2026: Kasvuyrittäjän KAIKKI tärkeimmät rahoitusinstrumentit saman katon alla
DESCRIPTION:Torstaina 23.4.2026 Suomen kasvuhakuisimmat yritykset kohtaavat Helsingin Tennispalatsissa rahoituslaitosten edustajat\, sijoittajat sekä kasvukumppanit. Kyseessä on Suomen ainoa tapahtuma\, joka tuo yhteen koko rahoitusinstrumenttien laajan kirjon (julkinen & yksityinen pääoma)! \nTapahtuman missiona on saada Suomen talouskasvu nousuun\, ja sen kohderyhmään kuuluvat liiketoimintansa jo vakiinnuttaneet yritykset\, joiden tavoitteena on kasvaa ja/tai kansainvälistyä kasvurahoituksen avulla. \nTapahtuman tavoitteet\n• Kehittää suomalaisyritysten rahoitus- ja vientiosaamista.\n• Edistää pääoman kohdentumista suomalaisyrityksiin.\n• Vahvistaa kasvuyrittäjyyden ekosysteemitoimijoiden välistä yhteistyötä. \nTapahtumassa\n• Luodaan osallistujille kattava kokonaiskuva yritysrahoituskentästä ja kasvuyrittäjän tärkeimmistä sidosryhmistä.\n• Kuullaan kasvurahoituksen ja kansainvälistymisen kovimmat asiantuntijapuheenvuorot kolmella eri esiintymislavalla.\n• Kasvuyrittäjät tapaavat rahoittajat\, sijoittajat ja kasvukumppanit 1-on-1 tapaamisalueella.\n• Osallistujat saavat rahoitusinstrumentit yhteen koostavan RISE Rahoitusoppaan.\n• Osallistujille tarjotaan rahoitusneuvontaa\, lounas\, kahvit ja jatkot. \nLue lisää tapahtuman sivuilta RISE 2026.
URL:https://ov-foorumi.fi/event/rise-2026/
CATEGORIES:Konferenssi,Pääkaupunki-seutu
ATTACH;FMTTYPE=image/jpeg:https://ov-foorumi.fi/wp-content/uploads/2025/12/Rise_2026_omistajanvaihdosfoorumi2.jpg
END:VEVENT
BEGIN:VEVENT
DTSTART;TZID=Europe/Helsinki:20260423T170000
DTEND;TZID=Europe/Helsinki:20260423T200000
DTSTAMP:20260423T025827
CREATED:20260416T133735Z
LAST-MODIFIED:20260416T133735Z
UID:226005-1776963600-1776974400@ov-foorumi.fi
SUMMARY:Kymenlaakson Omistajanvaihdosfoorumi
DESCRIPTION:Kymenlaakson Omistajanvaihdosfoorumi kokoaa yhteen yrittäjät\, asiantuntijat ja alueelliset toimijat keskustelemaan yritysten omistajanvaihdoksista ja niiden tulevaisuudesta. \nTilaisuus rakentuu kahdesta osasta. \nEnsimmäinen osuus\, omistajanvaihdoksen ennakoiva asiantuntijaosuus\, klo 17.00–18.00 on suunnattu kutsuvieraille. Tässä osuudessa syvennytään omistajanvaihdoksen lyhyen ja pitkän aikavälin ennakointiin ja toimenpidetarpeiden tarkasteluun. \nToisessa osassa klo 18.00 alkaen ovet avautuvat kaikille kiinnostuneille\, ja ohjelmassa on Kinnon katsaus yrityspalveluiden näkökulmasta sekä verotuksen ajankohtaiskatsaus. \nOhjelma\n17.00–18.00 Omistajanvaihdoksen ennakoiva asiantuntijaosuus \nEnnakoivan asiantuntijaosuuden fasilitoija Kaakkois-Suomen ammattikorkeakoulun Luovan liiketoiminnan tutkimusryhmäpäällikkö\, ennakoinnin kehittämisen asiantuntija Irina Kujanpää. \nLyhyet herättelypuheenvuorot ennakoinnin näkökulmasta asiantuntijoiden kertomana. Sisältöinä: \n\nTieto – lyhyet herättelypuheenvuorot ennakoinnin näkökulmasta\nTulkinta – yhteinen keskustelu tulevaisuuden näkymistä\nToiminta – minkälaisia kehittämis- ja toimintatarpeita alueella on omistajanvaihdosten suhteen\n\n18.00–18.30 Kahvit ja verkostoituminen \n18.30 Tervetulosanat ja alueen ajankohtaiset kuulumiset\nNetta Selin\, yrityspalvelujohtaja\, Kouvola-Innovation Oy \n18.35 Omistajanvaihdoksen verotuksen ajankohtaiskatsaus  Senior Tax Advisor\, Kauppatieteiden lisensiaatti\, KLT Risto Walden Bilanssi Oy \n\nHuojennukset\nAvainhenkilöt\nMyynti tai osto\n\n19.35 Loppusanat ja verkostoituminen \n20.00 Tilaisuus päättyy  \nTilaisuus on maksuton ja sisältää tarjoilun. \nIlmoittaudu mukaan viimeistään 20.4 mennessä. \nTilaisuuden mahdollistaa Euroopan unionin osarahoittama Varustamo – tukena yrityksen omistajanvaihdoksessa -ryhmähanke\, jonka toteuttajat ovat Cursor\, Kouvola Innovation\, Eduko\, Ekami ja Xamk. Hankkeen pääasiallinen rahoitus tulee ESR+ -ohjelmasta. \nIlmoittaudu mukaan tapahtumaan täällä.
URL:https://ov-foorumi.fi/event/kymenlaakson-omistajanvaihdosfoorumi/
CATEGORIES:Kymenlaakso
ATTACH;FMTTYPE=image/webp:https://ov-foorumi.fi/wp-content/uploads/2026/04/Ov-foorumi-1-1536x727-1.webp
END:VEVENT
END:VCALENDAR